BEGIN:VCALENDAR
VERSION:2.0
PRODID:-//Australian Garden Calendar - ECPv6.5.0//NONSGML v1.0//EN
CALSCALE:GREGORIAN
METHOD:PUBLISH
X-ORIGINAL-URL:https://australiangardencalendar.com.au
X-WR-CALDESC:Events for Australian Garden Calendar
REFRESH-INTERVAL;VALUE=DURATION:PT1H
X-Robots-Tag:noindex
X-PUBLISHED-TTL:PT1H
BEGIN:VTIMEZONE
TZID:Australia/Adelaide
BEGIN:STANDARD
TZOFFSETFROM:+1030
TZOFFSETTO:+0930
TZNAME:ACST
DTSTART:20260404T163000
END:STANDARD
BEGIN:DAYLIGHT
TZOFFSETFROM:+0930
TZOFFSETTO:+1030
TZNAME:ACDT
DTSTART:20261003T163000
END:DAYLIGHT
END:VTIMEZONE
BEGIN:VEVENT
DTSTART;TZID=Australia/Adelaide:20260418T090000
DTEND;TZID=Australia/Adelaide:20260418T130000
DTSTAMP:20260421T030651
CREATED:20260310T055939Z
LAST-MODIFIED:20260310T060354Z
UID:10000786-1776502800-1776517200@australiangardencalendar.com.au
SUMMARY:SA Begonia Society & SA Fern Society Autumn Show
DESCRIPTION:Doors Open 9.00am – 1.00pm \nA huge plant sale and display – Devonshire Tea \nKlemzig Community Hall \n242 North East Rd \nEnter/parking via Wellington St
URL:https://australiangardencalendar.com.au/event/sa-begonia-society-sa-fern-society-autumn-show/
LOCATION:<span>Klemzig Community Hall</span>\, North East Road\, Klemzig\, City of Port Adelaide Enfield\, 5087\, Australia
CATEGORIES:Event
GEO:-34.8756053;138.6319259
X-APPLE-STRUCTURED-LOCATION;VALUE=URI;X-ADDRESS=<span>Klemzig Community Hall</span> North East Road Klemzig City of Port Adelaide Enfield 5087 Australia;X-APPLE-RADIUS=500;X-TITLE=North East Road:geo:138.6319259,-34.8756053
END:VEVENT
END:VCALENDAR