BEGIN:VCALENDAR
VERSION:2.0
PRODID:-//Australian Garden Calendar - ECPv6.5.0//NONSGML v1.0//EN
CALSCALE:GREGORIAN
METHOD:PUBLISH
X-ORIGINAL-URL:https://australiangardencalendar.com.au
X-WR-CALDESC:Events for Australian Garden Calendar
REFRESH-INTERVAL;VALUE=DURATION:PT1H
X-Robots-Tag:noindex
X-PUBLISHED-TTL:PT1H
BEGIN:VTIMEZONE
TZID:Australia/Adelaide
BEGIN:STANDARD
TZOFFSETFROM:+1030
TZOFFSETTO:+0930
TZNAME:ACST
DTSTART:20260404T163000
END:STANDARD
BEGIN:DAYLIGHT
TZOFFSETFROM:+0930
TZOFFSETTO:+1030
TZNAME:ACDT
DTSTART:20261003T163000
END:DAYLIGHT
END:VTIMEZONE
BEGIN:VEVENT
DTSTART;TZID=Australia/Adelaide:20261009T120000
DTEND;TZID=Australia/Adelaide:20261018T180000
DTSTAMP:20260424T234314
CREATED:20260311T024838Z
LAST-MODIFIED:20260311T024838Z
UID:10000787-1791547200-1792346400@australiangardencalendar.com.au
SUMMARY:2026 Riverland Rose & Garden Festival
DESCRIPTION:The Riverland Rose and Garden Festival is 10 days of all things gardening being recognised as the 4th largest garden festival in Australia. The Riverland is at its most beautiful with roses blooming and gardens offering a relaxing ambient experience. Visitors are treated to a variety of open gardens of various styles\, community flower shows\, the festival fair and markets\, the Gala dinner\, tea parties\, workshops\, nature tourism and gardening seminars. There is something for everyone which was reflected in the numbers attending over the period of the festival in 2025. Take time to ‘Stop and Smell the Roses’.
URL:https://australiangardencalendar.com.au/event/2026-riverland-rose-garden-festival/
LOCATION:<span>Riverland Region</span>\, All Riverland towns\, South Australia\, Australia
CATEGORIES:Garden Festivals
ATTACH;FMTTYPE=image/png:https://australiangardencalendar.com.au/wp-content/uploads/2026/03/Open-Gardens-Header.png
GEO:-34.3142878;139.8547266
END:VEVENT
BEGIN:VEVENT
DTSTART;TZID=Australia/Adelaide:20261107T090000
DTEND;TZID=Australia/Adelaide:20261107T170000
DTSTAMP:20260424T234314
CREATED:20260311T025210Z
LAST-MODIFIED:20260315T040347Z
UID:10000788-1794042000-1794070800@australiangardencalendar.com.au
SUMMARY:Desert Pea Festival
DESCRIPTION:2026 Desert Pea Festival\nCelebrate SA’S Floral Emblem \nGuided Walks\nPlant sales\nFood and Drink\, Music \nwww.aalbg.org
URL:https://australiangardencalendar.com.au/event/desert-pea-festival/
LOCATION:<span>Australian Arid Lands Botanic Garden</span>\, 144 Stuart Hwy\,\, Port Augusta\, SA\, 5700\, Australia
CATEGORIES:Public/National Park
ATTACH;FMTTYPE=image/jpeg:https://australiangardencalendar.com.au/wp-content/uploads/2026/03/AGC-Circle.jpg
GEO:-32.4702826;137.7432883
X-APPLE-STRUCTURED-LOCATION;VALUE=URI;X-ADDRESS=<span>Australian Arid Lands Botanic Garden</span> 144 Stuart Hwy Port Augusta SA 5700 Australia;X-APPLE-RADIUS=500;X-TITLE=144 Stuart Hwy\,:geo:137.7432883,-32.4702826
END:VEVENT
END:VCALENDAR