BEGIN:VCALENDAR
VERSION:2.0
PRODID:-//Australian Garden Calendar - ECPv6.5.0//NONSGML v1.0//EN
CALSCALE:GREGORIAN
METHOD:PUBLISH
X-ORIGINAL-URL:https://australiangardencalendar.com.au
X-WR-CALDESC:Events for Australian Garden Calendar
REFRESH-INTERVAL;VALUE=DURATION:PT1H
X-Robots-Tag:noindex
X-PUBLISHED-TTL:PT1H
BEGIN:VTIMEZONE
TZID:Australia/Adelaide
BEGIN:STANDARD
TZOFFSETFROM:+1030
TZOFFSETTO:+0930
TZNAME:ACST
DTSTART:20260404T163000
END:STANDARD
BEGIN:DAYLIGHT
TZOFFSETFROM:+0930
TZOFFSETTO:+1030
TZNAME:ACDT
DTSTART:20261003T163000
END:DAYLIGHT
END:VTIMEZONE
BEGIN:VEVENT
DTSTART;TZID=Australia/Adelaide:20260307T100000
DTEND;TZID=Australia/Adelaide:20260307T170000
DTSTAMP:20260423T221812
CREATED:20260221T011813Z
LAST-MODIFIED:20260221T011847Z
UID:10000775-1772877600-1772902800@australiangardencalendar.com.au
SUMMARY:The Dahlia Society of SA
DESCRIPTION:State Show and Championships \nwww.dahliasocietysa.com \nSaturday March 7th \nSunday 8th \n10.00am to 5.00 each day
URL:https://australiangardencalendar.com.au/event/the-dahlia-society-of-sa/
LOCATION:<span>Goodwood Community Centre</span>\, 32 Rosa St\, Goodwod\, Adelaide\, SA\, Australia
CATEGORIES:Garden Club Meeting
ATTACH;FMTTYPE=image/jpeg:https://australiangardencalendar.com.au/wp-content/uploads/2026/02/Dahlia-Show.jpg
GEO:-34.9509457;138.5906451
X-APPLE-STRUCTURED-LOCATION;VALUE=URI;X-ADDRESS=<span>Goodwood Community Centre</span> 32 Rosa St Goodwod Adelaide SA Australia;X-APPLE-RADIUS=500;X-TITLE=32 Rosa St\, Goodwod:geo:138.5906451,-34.9509457
END:VEVENT
END:VCALENDAR